BEGIN:VCALENDAR
VERSION:2.0
PRODID:-//swoogo.com//NONSGML kigkonsult.se iCalcreator 2.41.90//
CALSCALE:GREGORIAN
UID:61656637-3163-4366-b330-326139333832
BEGIN:VEVENT
UID:3ea3e771a64786d6b6e8ee2addf375e1c2a4023c@swoogo.com
DTSTAMP:20260421T101047Z
DESCRIPTION:The Surface Water Quality Conference & Expo
DTSTART:20220926T040000Z
DTEND:20220928T040000Z
LAST-MODIFIED:20260421T101047Z
LOCATION:Gaylord National Resort & Convention Center\, 201 Waterfront St\, 
 Fort Washington\, MD 20745\, United States
SEQUENCE:0
STATUS:CONFIRMED
SUMMARY:StormCon 2022
TRANSP:OPAQUE
X-ALT-DESC;FMTTYPE=text/html:<div>The Surface Water Quality Conference & Ex
 po</div>
BEGIN:VALARM
UID:35663830-3565-4831-a536-656139623038
ACTION:DISPLAY
DESCRIPTION:The Surface Water Quality Conference & Expo
TRIGGER:-PT15M
END:VALARM
END:VEVENT
END:VCALENDAR
